BEGIN:VCALENDAR
VERSION:2.0
PRODID:-//wp-events-plugin.com//7.1.7//EN
BEGIN:VEVENT
UID:9191@powiat.poznan.pl
DTSTART:20250823T180000Z
DTEND:20250823T200000Z
DTSTAMP:20250623T103726Z
URL:https://powiat.poznan.pl/events/157384/
SUMMARY:Stan Zapalny w Skórzewie
DESCRIPTION:\nSTAN ZAPALNY (Stan Zapalny) wraca na scenę z nowym ogniem!\n
 Nowy singiel „Lubię kłopoty” już podbija radia i serca fanów – a
  to dopiero początek!\n\n\nChcesz usłyszeć go na żywo? Widzimy się 23
 .08.2025 w Skórzewie – Figowy Zakątek!\nTo będzie wieczór pełen emo
 cji\, energii i dobrej muzyki. Nie może Cię zabraknąć! \n\n\nAutor hit
 ów „Ego”\, „Moje momenty” i współpracownik Grzegorza Skawiński
 ego – teraz jeszcze mocniejszy\, bardziej szczery i... gotowy na więcej
 !\nZapisz datę. Zaproś znajomych. Przyjdź i daj się porwać!\n\n
ATTACH;FMTTYPE=image/jpeg:https://powiat.poznan.pl/wp-content/uploads/2025
 /06/d4.jpg
CATEGORIES:Kultura i sztuka,Rozrywka,Społeczne
LOCATION:Skórzewo\, Skórzewo\, Skorzewo\, Poland
GEO:52.391846;16.793007
X-APPLE-STRUCTURED-LOCATION;VALUE=URI;X-ADDRESS=Skórzewo\, Skorzewo\, Pola
 nd;X-APPLE-RADIUS=100;X-TITLE=Skórzewo:geo:52.391846,16.793007
END:VEVENT
END:VCALENDAR