BEGIN:VCALENDAR
VERSION:2.0
PRODID:-//wp-events-plugin.com//7.1.7//EN
BEGIN:VEVENT
UID:9239@powiat.poznan.pl
DTSTART:20250830T180000Z
DTEND:20250830T200000Z
DTSTAMP:20250710T083352Z
URL:https://powiat.poznan.pl/events/158170/
SUMMARY:Złote polskie przeboje
DESCRIPTION:W ostatnią wakacyjną sobotę – 30 sierpnia\, o 19:00 najpi
 ękniejszymi polskimi piosenkami Dominika Dobrosielska pożegna koncertowe
  lato w Dworze Skrzynki.\n\nArtystka zabierze nas do swojego świata pełn
 ego gracji\, szyku i eleganckiego humoru. To koncert dla wszystkich\, któ
 rzy na zakończenie wakacji pragną nabrać pozytywnej energii na nadchodz
 ące jesienne dni i chcą cieszyć się piękną szlachetnością polskich
  piosenek. Zabrzmią złote przeboje z repertuaru między innymi: Sławy P
 rzybylskiej\, Wojciecha Młynarskiego\, czy Ewy Bem. Dominice przy fortepi
 anie towarzyszyć będzie znakomity pianista Michał Ruksza.\n\nDominika D
 obrosielska to zwyciężczyni Finału „Szansy na Sukces”\, uczestniczk
 a 61 Krajowego Festiwalu Piosenki Polskiej w Opolu\, gwiazda i dobry duch 
 kabaretu “Klub Szyderców Bis”\, a przed wszystkim kontynuatorka najle
 pszych tradycji polskiej piosenki. Pochodzi z Ciechocinka. W 2022 roku obr
 oniła tytuł magistra sztuki na Akademii Muzycznej w Poznaniu.\n\nMichał
  Ruksza jest pianistą i kompozytorem. Studiował w Poznańskiej Akademii 
 Muzycznej. Swoim stylem nawiązuje do skandynawskiego jazzu\, jednak od wi
 elu lat podąża własną drogą\, tworząc niepowtarzalną formę improwi
 zacji jazzowej. Jest współzałożycielem duetu Unobtainum oraz uczestnic
 zy w międzynarodowym projekcie muzycznym “Zendegi Zibast”.\n\nKoncert
  „Złote polskie przeboje na zakończenie wakacji” z pewnością dosta
 rczy wielu wzruszeń\, ożywi wspomnienia ale też pozwoli sprawdzić jak 
 młode pokolenie postrzega i twórczo interpretuje hity rodziców i dziadk
 ów.\n\n
ATTACH;FMTTYPE=image/jpeg:https://powiat.poznan.pl/wp-content/uploads/2025
 /07/2-2-1.jpg
CATEGORIES:Rozrywka
LOCATION:Dwór w Skrzynkach\, Plac Parkowy 1\, Skrzynki\, Poland
GEO:52.342096;16.606405
X-APPLE-STRUCTURED-LOCATION;VALUE=URI;X-ADDRESS=Plac Parkowy 1\, Skrzynki\,
  Poland;X-APPLE-RADIUS=100;X-TITLE=Dwór w Skrzynkach:geo:52.342096,16.606
 405
END:VEVENT
END:VCALENDAR