BEGIN:VCALENDAR
VERSION:2.0
PRODID:-//wp-events-plugin.com//7.1.7//EN
BEGIN:VEVENT
UID:9241@powiat.poznan.pl
DTSTART:20250816T180000Z
DTEND:20250816T200000Z
DTSTAMP:20250710T083922Z
URL:https://powiat.poznan.pl/events/158173/
SUMMARY:Kultura w drodze
DESCRIPTION:Kolejny raz projekt “Kultura w drodze” będzie miał swój 
 przystanek w Skrzynkach. Tym razem 16 sierpnia o godz. 19.00 będzie to sp
 otkanie z muzyką klasyczną i genialną twórczością Antonio Vivaldiego
 . Na scenie plenerowej Dworu Skrzynki Olga Winkowska – skrzypce solo ora
 z Kwintet smyczkowy Filharmonii Poznańskiej wykonają ponadczasowe „Czt
 ery pory roku”.\n\nJest to bez wątpienia najbardziej znane dzieło Anto
 nio Vivaldiego. Mistrz napisał cykl 4 koncertów na instrumenty smyczkowe
  dla swojego czeskiego mecenasa hrabiego Wenzela von Morzin. Kompozycja po
 wstała  dokładnie 300 lat temu i po dziś dzień jest jednym z najpięk
 niejszych przykładów muzyki ilustracyjnej. Wszystkie części powstały 
 jako muzyczna ilustracja do anonimowych sonetów. Wnikliwi badacze życior
 ysu Vivaldiego przypisują mu autorstwo tych sonetów.  “Kultura w drod
 ze” jest mostem łączącym lokalne społeczności z bogactwem kultural
 nym naszego regionu – zachęca do udziału w programie Marek Woźniak\, 
 Marszałek Województwa Wielkopolskiego. Koncert jest współfinasowany pr
 zez samorząd Województwa Wielkopolskiego w ramach programu „Kultura w 
 drodze”.\n\n\n\n&nbsp\;
ATTACH;FMTTYPE=image/jpeg:https://powiat.poznan.pl/wp-content/uploads/2025
 /07/ig-6-1.jpg
CATEGORIES:Kultura i sztuka,Rozrywka
LOCATION:Dwór w Skrzynkach\, Plac Parkowy 1\, Skrzynki\, Poland
GEO:52.342096;16.606405
X-APPLE-STRUCTURED-LOCATION;VALUE=URI;X-ADDRESS=Plac Parkowy 1\, Skrzynki\,
  Poland;X-APPLE-RADIUS=100;X-TITLE=Dwór w Skrzynkach:geo:52.342096,16.606
 405
END:VEVENT
END:VCALENDAR