BEGIN:VCALENDAR
VERSION:2.0
PRODID:-//wp-events-plugin.com//7.1.7//EN
BEGIN:VEVENT
UID:9285@powiat.poznan.pl
DTSTART:20250830T230000Z
DTEND:20250830T230000Z
DTSTAMP:20250826T081802Z
URL:https://powiat.poznan.pl/events/159383/
SUMMARY:Wielka Otuska i dożynki w Buku
DESCRIPTION:Dożynki to wyjątkowe święto rolników. To czas radości i p
 odziękowań. W niedzielę\, 31 sierpnia mieszkańcy gminy Buk spotkają s
 ię na gminnych dożynkach\, które zostaną połączone z zawodami konnym
 i w powożeniu zaprzęgami – Wielką Otuską. Szczegóły na stronie gmi
 ny Buk.\n\n
ATTACH;FMTTYPE=image/jpeg:https://powiat.poznan.pl/wp-content/uploads/2025
 /08/otuska.jpg
CATEGORIES:Dla dzieci,Dla seniora,Piknik,Rozrywka,Społeczne
LOCATION:Buk\, buk\, buk\, Poland
GEO:52.35536;16.519559
X-APPLE-STRUCTURED-LOCATION;VALUE=URI;X-ADDRESS=buk\, buk\, Poland;X-APPLE-
 RADIUS=100;X-TITLE=Buk:geo:52.35536,16.519559
END:VEVENT
END:VCALENDAR