BEGIN:VCALENDAR
VERSION:2.0
PRODID:-//wp-events-plugin.com//7.1.7//EN
BEGIN:VEVENT
UID:9578@powiat.poznan.pl
DTSTART:20260410T230000Z
DTEND:20260410T230000Z
DTSTAMP:20260128T122624Z
URL:https://powiat.poznan.pl/events/21-turniej-taneczny-mosina-2026/
SUMMARY:21. Turniej Taneczny Mosina 2026
DESCRIPTION:\nRuszyły zapisy na największe wydarzenie taneczne w Mosinie!
 \n\n 	ponad 1000 uczestników\n 	blisko 100 wystąpień formacji tanecznyc
 h\n 	występy solistów\n 	3 kategorie wiekowe\n 	3 kategorie taneczne\n 	
 niezapomniana impreza\n\nZapamiętajcie datę: 11 kwietnia 2026 - sobota\n
 \nZapisy i szczegółowe informacje: www.osirmosina.pl\n\n\nKlub Sportowy
  IDMAR | Gmina Mosina | Szkoła Podstawowa nr 1 w Mosinie | Szkoła 
 Podstawowa nr 2 w Mosinie | Zespół Szkół w Krośnie\n\n\n
ATTACH;FMTTYPE=image/jpeg:https://powiat.poznan.pl/wp-content/uploads/2026
 /01/m1-1.jpg
CATEGORIES:Dla dzieci,Dla seniora,Kultura i sztuka,Rozrywka,Społeczne
LOCATION:Hala Widowiskowo - Sportowa OSiR Mosina\, ul. Krasickiego 16\, Mos
 ina\, Poland
GEO:52.233215;16.831095
X-APPLE-STRUCTURED-LOCATION;VALUE=URI;X-ADDRESS=ul. Krasickiego 16\, Mosina
 \, Poland;X-APPLE-RADIUS=100;X-TITLE=Hala Widowiskowo - Sportowa OSiR Mosi
 na:geo:52.233215,16.831095
END:VEVENT
END:VCALENDAR