BEGIN:VCALENDAR
VERSION:2.0
PRODID:-//wp-events-plugin.com//7.1.7//EN
BEGIN:VEVENT
UID:8551@powiat.poznan.pl
DTSTART:20241027T160000Z
DTEND:20241027T160000Z
DTSTAMP:20241022T093506Z
URL:https://powiat.poznan.pl/events/43-urodziny-choru-dziewczecego-canzona
 -w-murowanej-goslinie/
SUMMARY:43. Urodziny Chóru Dziewczęcego "Canzona" w Murowanej Goślinie
DESCRIPTION:43. Urodziny Chóru Dziewczęcego "Canzona" w Murowanej Goślin
 ie\n&nbsp\;\n\nKoncert z okazji urodzin Chóru Dziewczęcego "Canzona" w M
 urowanej Gośłinie.\n\n\n\n&nbsp\;\n\n&nbsp\;\n\n&nbsp\;
ATTACH;FMTTYPE=image/jpeg:https://powiat.poznan.pl/wp-content/uploads/2024
 /10/43.-urodziny-chor-canzona.jpg
CATEGORIES:Uroczystości
LOCATION:Aula Szkoły w Murowanej Goślinie\, ul. Mściszewska 10\, Murowan
 a Goślina\, Poland
GEO:52.5759122;17.001585100000057
X-APPLE-STRUCTURED-LOCATION;VALUE=URI;X-ADDRESS=ul. Mściszewska 10\, Murow
 ana Goślina\, Poland;X-APPLE-RADIUS=100;X-TITLE=Aula Szkoły w Murowanej 
 Goślinie:geo:52.5759122,17.001585100000057
END:VEVENT
END:VCALENDAR