BEGIN:VCALENDAR
VERSION:2.0
PRODID:-//wp-events-plugin.com//7.1.7//EN
BEGIN:VEVENT
UID:5232@powiat.poznan.pl
DTSTART;VALUE=DATE:20210603
DTEND;VALUE=DATE:20210607
DTSTAMP:20210602T085326Z
URL:https://powiat.poznan.pl/events/4foulee/
SUMMARY:4FOULEE
DESCRIPTION:
ATTACH;FMTTYPE=image/jpeg:https://powiat.poznan.pl/wp-content/uploads/2021
 /06/uid_97f43bf0e38737fbf48f0d2b7918398d1622210277224_width_900_play_0_pos
 _0_gs_0_height_506.jpg
CATEGORIES:Sport
LOCATION:Hipodrom Wola\, Lutycka 34\, Poznań\, Poland
GEO:52.432598;16.854327
X-APPLE-STRUCTURED-LOCATION;VALUE=URI;X-ADDRESS=Lutycka 34\, Poznań\, Pola
 nd;X-APPLE-RADIUS=100;X-TITLE=Hipodrom Wola:geo:52.432598,16.854327
END:VEVENT
END:VCALENDAR