BEGIN:VCALENDAR
VERSION:2.0
PRODID:-//wp-events-plugin.com//7.1.7//EN
BEGIN:VEVENT
UID:9290@powiat.poznan.pl
DTSTART;VALUE=DATE:20250831
DTEND;VALUE=DATE:20250901
DTSTAMP:20250812T081352Z
URL:https://powiat.poznan.pl/events/5-zlot-klasykow-prl-u/
SUMMARY:5. Zlot Klasyków PRL-u
DESCRIPTION:Zapraszamy do udziału w 5. edycji Zlotu Klasyków PRL-u\, któ
 ry odbędzie się 31 sierpnia 2025 roku w Gowarzewie. 300 pojazdów z mini
 onej epoki w jednym miejscu\, rekreacyjny rajd "Slalomem przez Gminę Kles
 zczewo"\, a do tego świetna\, rodzinna atmosfera. Honorowym autem 5. edyc
 ji Zlotu będzie POLONEZ - wszystkie zgłoszone pojazdy tej marki będą w
 yeksponowane w oddzielnym sektorze\, będą także jechać na czele rajdu 
 oraz wezmą udział w plebiscycie na "Auto Zlotu".\n\n\n\n&nbsp\;
ATTACH;FMTTYPE=image/jpeg:https://powiat.poznan.pl/wp-content/uploads/2025
 /08/zk_prl_2025_plakat_zapisy.jpg
CATEGORIES:Piknik,Rozrywka
LOCATION:Plac przy strażnicy Gowarzewo\, Plac przy strażnicy\, Gowarzewo\
 , Poland
GEO:52.602904;16.309036
X-APPLE-STRUCTURED-LOCATION;VALUE=URI;X-ADDRESS=Plac przy strażnicy\, Gowa
 rzewo\, Poland;X-APPLE-RADIUS=100;X-TITLE=Plac przy strażnicy Gowarzewo:g
 eo:52.602904,16.309036
END:VEVENT
END:VCALENDAR