BEGIN:VCALENDAR
VERSION:2.0
PRODID:-//wp-events-plugin.com//7.1.7//EN
BEGIN:VEVENT
UID:8496@powiat.poznan.pl
DTSTART:20241020T164500Z
DTEND:20241020T164500Z
DTSTAMP:20241009T092955Z
URL:https://powiat.poznan.pl/events/85-rocznica-rozstrzelania-15-obywateli
 -mosiny-i-okolic/
SUMMARY:85. rocznica rozstrzelania 15 obywateli Mosiny i okolic
DESCRIPTION:85. rocznica rozstrzelania 15 obywateli Mosiny i okolic\nWięce
 j informacji na mosina.pl\n\n
ATTACH;FMTTYPE=image/jpeg:https://powiat.poznan.pl/wp-content/uploads/2024
 /10/zaproszenie-85.rocznca-rozstrzelania-15-obywateli-mosiny-i-okolic.jpg
CATEGORIES:Uroczystości
LOCATION:Cmentarz Parafialny w Mosinie\, ul. Spokojna\, 62-050 Mosina\, Pol
 and
GEO:52.247769;16.851084
X-APPLE-STRUCTURED-LOCATION;VALUE=URI;X-ADDRESS=ul. Spokojna\, 62-050 Mosin
 a\, Poland;X-APPLE-RADIUS=100;X-TITLE=Cmentarz Parafialny w Mosinie:geo:52
 .247769,16.851084
END:VEVENT
END:VCALENDAR