BEGIN:VCALENDAR
VERSION:2.0
PRODID:-//wp-events-plugin.com//7.1.7//EN
BEGIN:VEVENT
UID:9069@powiat.poznan.pl
DTSTART:20250830T070000Z
DTEND:20250830T130000Z
DTSTAMP:20250522T081215Z
URL:https://powiat.poznan.pl/events/akcja-krew/
SUMMARY:Akcja KREW
DESCRIPTION:Kolejna akcja honorowego krwiodawstwa (już 107.!) odbędzie si
 ę 30 sierpnia\, w godz. 8.00-14.00 w Szkole Podstawowej nr 1 w Tarnowie P
 odgórnym. Do udziału zachęcamy zarówno wieloletnich krwiodawców\, jak
  i tych\, którzy krew chcieliby oddać po raz pierwszy.\n\n– Zapraszam 
 w imieniu naszych wolontariuszy oraz pracowników Poznańskiego Regionalne
 go Centrum Krwiodawstwa i Krwiolecznictwa – mówi Wojciech Janczewski\, 
 Wiceprzewodniczący Rady Gminy i Prezes Stowarzyszenia Dar Serc. – Oby b
 yło nas jak najwięcej\, bo krew jest najcenniejszym\, zawsze potrzebnym 
 lekiem.\n\nOstatnia w 2025 r. akcja odbędzie się 22 listopada – warto 
 zapisać tę datę w kalendarzu.\n\n
ATTACH;FMTTYPE=image/jpeg:https://powiat.poznan.pl/wp-content/uploads/2025
 /05/tp12.jpg
CATEGORIES:Edukacja,Społeczne,Zdrowie
LOCATION:Szkoła Podstawowa nr 1\, ul. Szkolna 5\, Tarnowo Podgórne\, Pols
 ka\, Poland
GEO:52.459647;16.619981
X-APPLE-STRUCTURED-LOCATION;VALUE=URI;X-ADDRESS=ul. Szkolna 5\, Tarnowo Pod
 górne\, Polska\, Poland;X-APPLE-RADIUS=100;X-TITLE=Szkoła Podstawowa nr 
 1:geo:52.459647,16.619981
END:VEVENT
END:VCALENDAR