BEGIN:VCALENDAR
VERSION:2.0
PRODID:-//wp-events-plugin.com//7.1.7//EN
BEGIN:VEVENT
UID:6506@powiat.poznan.pl
DTSTART;VALUE=DATE:20221115
DTEND;VALUE=DATE:20221201
DTSTAMP:20221115T081014Z
URL:https://powiat.poznan.pl/events/akcja-swiateczna/
SUMMARY:Akcja Świąteczna
DESCRIPTION:Akcja Świąteczna 2022\nWięcej informacji TUTAJ\n\n
ATTACH;FMTTYPE=image/jpeg:https://powiat.poznan.pl/wp-content/uploads/2022
 /11/akcjaswiateczna112022-500x500-1.jpg
CATEGORIES:Dla dzieci,Dla seniora,Społeczne
LOCATION:Przedszkole im. Krasnala Hałabały w Buku\, ul. Wagnera 10\, Buk\
 , wielkopolskie\, Poland
GEO:52.240733;16.835139
X-APPLE-STRUCTURED-LOCATION;VALUE=URI;X-ADDRESS=ul. Wagnera 10\, Buk\, wiel
 kopolskie\, Poland;X-APPLE-RADIUS=100;X-TITLE=Przedszkole im. Krasnala Ha
 łabały w Buku:geo:52.240733,16.835139
END:VEVENT
END:VCALENDAR