BEGIN:VCALENDAR
VERSION:2.0
PRODID:-//wp-events-plugin.com//7.1.7//EN
BEGIN:VEVENT
UID:4967@powiat.poznan.pl
DTSTART:20200227T080000Z
DTEND:20200315T150000Z
DTSTAMP:20200228T115043Z
URL:https://powiat.poznan.pl/events/anioly-sa-wsrod-nas/
SUMMARY:Anioły są wśród nas
DESCRIPTION:Anioły są wśród nas
ATTACH;FMTTYPE=image/jpeg:https://powiat.poznan.pl/wp-content/uploads/2020
 /02/87866018_2975501399159910_5082327735859150848_n.jpg
CATEGORIES:Kultura i sztuka
LOCATION:Swarzędzkie Centrum Historii i Sztuki\, ul. Bramkowa 6\, 62-020 S
 warzędz\, 62-020\, Poland
GEO:52.41119;17.078892
X-APPLE-STRUCTURED-LOCATION;VALUE=URI;X-ADDRESS=ul. Bramkowa 6\, 62-020 Swa
 rzędz\, 62-020\, Poland;X-APPLE-RADIUS=100;X-TITLE=Swarzędzkie Centrum H
 istorii i Sztuki:geo:52.41119,17.078892
END:VEVENT
END:VCALENDAR