BEGIN:VCALENDAR
VERSION:2.0
PRODID:-//wp-events-plugin.com//7.1.7//EN
BEGIN:VEVENT
UID:9153@powiat.poznan.pl
DTSTART:20250802T180000Z
DTEND:20250802T200000Z
DTSTAMP:20250623T074154Z
URL:https://powiat.poznan.pl/events/anna-jantar-w-skrzynkach/
SUMMARY:Anna Jantar w Skrzynkach
DESCRIPTION:“Żeby szczęśliwym być” – któż o tym nie marzy! Nieo
 dżałowana Anna Jantar bardzo lubiła tę piosenkę\, bo uważała\, że 
 do szczęścia wcale nam wiele nie trzeba. Nie potrzebujemy materialnych d
 óbr\, żeby być szczęśliwym i zadowolonym. Czasami wystarczy piękna p
 iosenka… albo wieczór spędzony w Dworze Skrzynki. Taki przebojowo-nast
 rojowy wieczór\, na który złożą się piosenki z repertuaru Anny Janta
 r (w pierwszej części koncertu) i Wojciecha Skowrońskiego (w drugiej cz
 ęści) rozpocznie się w Skrzynkach 2 sierpnia 2025r o godzinie 19:00. Wy
 stąpi „Grupa Szóstka” w składzie: Michał Szóstek – instr. klawi
 szowe\, Eugeniusz Effenberg – saksofon\, Piotr Kuhn – gitara\, śpiew\
 , Marcin „Bąk” Bąkowski – bas\, Stanisław Kończewski – perkusj
 a i Anna Chwałczyńska – śpiew.\n\nGrupa Szóstka to zespół składaj
 ący się głównie z bardzo doświadczonych muzyków mających za sobą w
 iele koncertów i nagrań\, ale wzbogacony ostatnio o bardzo utalentowaną
 \, młodą wokalistkę Anię Chwałczyńską. Dzięki temu na scenie pojaw
 i się miks doświadczenia i spontanicznej młodości. Podczas koncertu us
 łyszymy piosenki z kultowego z albumu “Tyle słońca w całym mieście
 ”\, który Anna Jantar nagrała w 1974 roku\, będą też piosenki Wojtk
 a Skowrońskiego\, poznańskiego kompozytora\, aranżera i niezapomnianego
  wykonawcy standardów muzyki bluesowej i przebojów rockandrollowych. A d
 o tego kilka muzycznych niespodzianek.\n\nPoszukaj swojej gwiazdy – śpi
 ewała Anna Jantar – w Skrzynkach będzie to łatwe\, bo koncert będzie
  w plenerze na placu animacji Dworu Skrzynki. Bilety można kupować on-li
 ne. Zachęcamy też do skorzystania z naszej oferty gastronomicznej zarów
 no bezpośrednio przy scenie plenerowej jak i w restauracji Dworu Skrzynki
 .\n\n
ATTACH;FMTTYPE=image/jpeg:https://powiat.poznan.pl/wp-content/uploads/2025
 /06/ig-5.jpg
CATEGORIES:Dla seniora,Kultura i sztuka,Rozrywka
LOCATION:Dwór Skrzynki\, Plac Parkowy 1\, Skrzynki\, gm. Stęszew\, 62-060
 \, Poland
GEO:52.342096;16.606405
X-APPLE-STRUCTURED-LOCATION;VALUE=URI;X-ADDRESS=Plac Parkowy 1\, Skrzynki\,
  gm. Stęszew\, 62-060\, Poland;X-APPLE-RADIUS=100;X-TITLE=Dwór Skrzynki:
 geo:52.342096,16.606405
END:VEVENT
END:VCALENDAR