BEGIN:VCALENDAR
VERSION:2.0
PRODID:-//wp-events-plugin.com//7.1.7//EN
BEGIN:VEVENT
UID:8495@powiat.poznan.pl
DTSTART:20241013T170000Z
DTEND:20241013T170000Z
DTSTAMP:20241009T091709Z
URL:https://powiat.poznan.pl/events/apetyt-na-czeresnie-w-rokietnicy-2/
SUMMARY:Apetyt na czereśnie w Rokietnicy
DESCRIPTION:„Apetyt na czereśnie”\nWięcej informacji na rokietnica.pl
 \n\n
ATTACH;FMTTYPE=image/jpeg:https://powiat.poznan.pl/wp-content/uploads/2024
 /10/apetyt-na-czerwsnie-w-rokietnicy_1-500x500-1.jpg
CATEGORIES:Kultura i sztuka
LOCATION:Aula Szkoły Podstawowej w Rokietnicy\, ul. Trakt Napoleoński 16\
 , Rokietnica\, Poland
GEO:52.51018;16.736565
X-APPLE-STRUCTURED-LOCATION;VALUE=URI;X-ADDRESS=ul. Trakt Napoleoński 16\,
  Rokietnica\, Poland;X-APPLE-RADIUS=100;X-TITLE=Aula Szkoły Podstawowej w
  Rokietnicy:geo:52.51018,16.736565
END:VEVENT
END:VCALENDAR