BEGIN:VCALENDAR
VERSION:2.0
PRODID:-//wp-events-plugin.com//7.1.7//EN
BEGIN:VEVENT
UID:8401@powiat.poznan.pl
DTSTART:20241017T180000Z
DTEND:20241017T180000Z
DTSTAMP:20240923T103630Z
URL:https://powiat.poznan.pl/events/apetyt-na-czeresnie-w-sezamie/
SUMMARY:“Apetyt na czereśnie” w SEZAMIE
DESCRIPTION:“Apetyt na czereśnie” w SEZAMIE\n\nUWAGA: SPEKTAKL PRZEŁO
 ŻONY Z DNIA 14.09 (sobota) g. 18 na 17.10 (czwartek)\, g. 19.\n\n*Bilety 
 zakupione na spektakl na 14.09.2024r. zachowują ważność na nowy termin
  17.10.2024r.\n**Istnieje możliwość zwrotu biletów. Bilety elektronicz
 ne należy zwrócić za pośrednictwem serwisu Biletyna.pl\, natomiast bil
 ety zakupione w kasach można zwrócić w kasach GOK SEZAM od pon. do pt.:
  w biurze (ul. Poznańska 96\, Tarnowo Podgórne) w godz. 8-15\; w DK Tarn
 owie Podgórnym (ul. Ogrodowa 14) w godz. 15-19\, oraz w CK Przeźmierowo 
 (ul. Ogrodowa 13a) w godz. 16-19.\nPrzepraszamy za utrudnienia.\nGOK SEZAM
 \n\nOsiecka\, On\, Ona - ich romans. I apetyt... na czereśnie!\n\n"Apetyt
  na czereśnie” w reżyserii Grzegorza Chrapkiewicza to spektakl muzyczn
 y\, pełen humoru i lekkości. Publika pozna historię dwójki ludzi po pr
 zejściach\, zakończonych związkach\, przepełnionych słodko-gorzkimi w
 spomnieniami. Podczas rozmowy na remontowanym\, lekko sypiącym się dworc
 u Kobieta (Katarzyna Tapek) i Mężczyzna (Radosław Elis) - wedle zapowie
 dzi - urzekną szczerością. Po raz pierwszy od dawna będą w pełni sob
 ą.\n\nOpowiedzą o miłości\, zazdrości\, zdradzie\, ale i codziennośc
 i. Mówi się. że ten pomysł i wykonanie ujmują i rozbrajają a główn
 a składowa scenariusza spektaklu – teksty Osieckiej – zdaniem Przemys
 ława Kieliszewskiego przeżywa kolejny renesans.\n\n"Apetyt na czereśnie
 ” *– spektakl Teatru Muzycznego w Poznaniu 17.10 (czwartek)\, g. 19\, 
 CK Przeźmierowo. Bilety: 35 zł WYPRZEDANE do kupienia na www.biletyna.pl
 \, oraz w kasach: Biuro GOK SEZAM (ul. Poznańska 96\, Tarnowo Podgórne) 
 czynne od pon. do pt. w godz. 8-15\; DK w Tarnowie Podgórnym od pon. do p
 t. w godz. 15-19\; CK Przeźmierowo od pon. do pt. w godz. 16-19.\n\n*Wyda
 rzenie jest współfinansowane przez Samorząd Województwa Wielkopolskieg
 o w ramach programu "Kultura w drodze”.\n\nInformacja: Organizator.\n\n
ATTACH;FMTTYPE=image/jpeg:https://powiat.poznan.pl/wp-content/uploads/2024
 /09/1200x1200px_kwadrat-1.jpg
CATEGORIES:Kultura i sztuka
LOCATION:Centrum Kultury Przeźmierowo\, ul. Ogrodowa 13a\, Przeźmierowo\,
  Poland
GEO:52.43219800000001;16.776851899999997
X-APPLE-STRUCTURED-LOCATION;VALUE=URI;X-ADDRESS=ul. Ogrodowa 13a\, Przeźmi
 erowo\, Poland;X-APPLE-RADIUS=100;X-TITLE=Centrum Kultury Przeźmierowo:ge
 o:52.43219800000001,16.776851899999997
END:VEVENT
END:VCALENDAR