BEGIN:VCALENDAR
VERSION:2.0
PRODID:-//wp-events-plugin.com//7.1.7//EN
BEGIN:VEVENT
UID:8504@powiat.poznan.pl
DTSTART:20241020T120000Z
DTEND:20241020T120000Z
DTSTAMP:20241010T105845Z
URL:https://powiat.poznan.pl/events/atmosfera-poezji-z-katarzyna-figura/
SUMMARY:AtmoSFERA poezji z Katarzyną Figurą
DESCRIPTION:AtmoSFERA poezji z Katarzyną Figurą\nWięcej informacji na pa
 lacjankowice.pl\n\n\n\n&nbsp\;
ATTACH;FMTTYPE=image/jpeg:https://powiat.poznan.pl/wp-content/uploads/2024
 /10/katarzyna-figura-atmosfera-poezji-do-wykorzystania-fot.-eastnews-scale
 d-1.jpg
CATEGORIES:Kultura i sztuka
LOCATION:Pałac Jankowice\, ul. Ogrodowa 2\, Jankowice\, 62-080\, Poland
GEO:52.438941;16.617316999999957
X-APPLE-STRUCTURED-LOCATION;VALUE=URI;X-ADDRESS=ul. Ogrodowa 2\, Jankowice\
 , 62-080\, Poland;X-APPLE-RADIUS=100;X-TITLE=Pałac Jankowice:geo:52.43894
 1,16.617316999999957
END:VEVENT
END:VCALENDAR