BEGIN:VCALENDAR
VERSION:2.0
PRODID:-//wp-events-plugin.com//7.1.7//EN
BEGIN:VEVENT
UID:2734@powiat.poznan.pl
DTSTART:20181130T090000Z
DTEND:20181130T090000Z
DTSTAMP:20181116T120617Z
URL:https://powiat.poznan.pl/events/badanie-znamion-dla-seniorow/
SUMMARY:Badanie znamion
DESCRIPTION:Badanie znamion dla seniorów w Komornikach\n\n
ATTACH;FMTTYPE=image/jpeg:https://powiat.poznan.pl/wp-content/uploads/2018
 /11/20181026_seniorczerniak.jpg
CATEGORIES:Dla seniora,Zdrowie
LOCATION:Urząd Gminy w Komornikach\, ul. Stawna 1\, Komorniki\, Poland
GEO:52.3341325;16.805755800000043
X-APPLE-STRUCTURED-LOCATION;VALUE=URI;X-ADDRESS=ul. Stawna 1\, Komorniki\, 
 Poland;X-APPLE-RADIUS=100;X-TITLE=Urząd Gminy w Komornikach:geo:52.334132
 5,16.805755800000043
END:VEVENT
END:VCALENDAR