BEGIN:VCALENDAR
VERSION:2.0
PRODID:-//wp-events-plugin.com//7.1.7//EN
BEGIN:VEVENT
UID:2982@powiat.poznan.pl
DTSTART:20190129T163000Z
DTEND:20190129T163000Z
DTSTAMP:20190116T093837Z
URL:https://powiat.poznan.pl/events/bajkoczytanie-5/
SUMMARY:Bajkoczytanie
DESCRIPTION:Bajkoczytanie
ATTACH;FMTTYPE=image/jpeg:https://powiat.poznan.pl/wp-content/uploads/2019
 /01/czytanie-2.jpg
CATEGORIES:Dla dzieci,Edukacja
LOCATION:Biblioteka Publiczna w Kórniku\, ul. Poznańska 65\, Kórnik\, Po
 land
GEO:52.2524356;17.08269599999994
X-APPLE-STRUCTURED-LOCATION;VALUE=URI;X-ADDRESS=ul. Poznańska 65\, Kórnik
 \, Poland;X-APPLE-RADIUS=100;X-TITLE=Biblioteka Publiczna w Kórniku:geo:5
 2.2524356,17.08269599999994
END:VEVENT
END:VCALENDAR