BEGIN:VCALENDAR
VERSION:2.0
PRODID:-//wp-events-plugin.com//7.1.7//EN
BEGIN:VEVENT
UID:8511@powiat.poznan.pl
DTSTART:20241016T130000Z
DTEND:20241016T170000Z
DTSTAMP:20241011T131709Z
URL:https://powiat.poznan.pl/events/bezpieczny-senior-w-domu-i-sieci/
SUMMARY:Bezpieczny Senior w domu i sieci
DESCRIPTION:Bezpieczny Senior\n\n\n\n\n\nZapraszamy Seniorów na zajęcia "
 Bezpieczny senior w domu i sieci" Ustalone terminy:\n- środa\, 16.10 w go
 dzinach 14:00-18:00\n- środa\, 23.10 w godzinach 14:00-18:00\n- środa\, 
 6.11 w godzinach 14:00-18:00\n\n\nMiejsce zajęć:\nBiblioteka Publiczna w
  Swarzędzu\nos. Czwartaków 1 62-020 Swarzędz\nZapisy: osobiście w Bibl
 iotece lub pod nr tel.: 61 8173 103\nGrupa docelowa:\nOsoby 60+ z Gminy Sw
 arzędz\, grupa minimum 10 osobowa (max 20 osobowa)\n\n\nProwadzący:\nPrz
 emysław Barański - Były policjant w stopniu oficerskim\; funkcjonariusz
  Centralnego Biura Śledczego Policji w Poznaniu. Instruktor Policji w zak
 resie taktyk i technik Interwencji. Instruktor i szkoleniowiec (m.in. z za
 kresu samoobrony i aktywności fizycznej).\n\n\nDofinansowanie:\nDziałani
 a dofinansowane ze środków Powiatu Poznańskiego w ramach projektu "Uniw
 ersytet Trzeciego Wieku Powiatu Poznańskiego". Warsztaty są bezpłatne.\
 n\n\nSkrócony opis zajęć:\nWarsztaty mają na celu podniesienie poziomu
  wiedzy osób starszych i samotnych na temat unikania oszustw lub kradzie
 ży\, ze szczególnym uwzględnieniem metod na tzw. „wnuczka”\, „pol
 icjanta” i „pracownika administracji”.\nPodczas warsztatów omawiane
  będą najważniejsze zagadnienia związane z zagrożeniami\, którym pad
 ają osoby starsze\, tj. oszustwa i kradzieże bezpośrednie\, oszustwa te
 lekomunikacyjne i internetowe. Spotkania poświęcone będą również sam
 oobronie\, dostosowanej do grupy wiekowej\, która ma na celu podniesienie
  pewności siebie osób starszych w sytuacji zagrożenia. Praktyczne zaję
 cia będą obejmowały samoobronę z wykorzystaniem przedmiotów użyteczn
 ości codziennej np. torebka\, parasol.\n\n\nOrganizator:\nStowarzyszenie 
 na rzecz Osób Niepełnosprawnych i Aktywności Lokalnej DLA CIEBIE\n\n\n\
 n\n\n
ATTACH;FMTTYPE=image/jpeg:https://powiat.poznan.pl/wp-content/uploads/2024
 /10/bezpieczny-senior_swarzedz_462734730_856146423298087_84847986767881636
 50_n.jpg
CATEGORIES:Dla seniora
LOCATION:Biblioteka Publiczna w Swarzędzu\, os. Czwartaków 1\, Swarzędz\
 , 62-020\, Poland
GEO:52.41566779999999;17.078867899999977
X-APPLE-STRUCTURED-LOCATION;VALUE=URI;X-ADDRESS=os. Czwartaków 1\, Swarzę
 dz\, 62-020\, Poland;X-APPLE-RADIUS=100;X-TITLE=Biblioteka Publiczna w Swa
 rzędzu:geo:52.41566779999999,17.078867899999977
END:VEVENT
END:VCALENDAR