BEGIN:VCALENDAR
VERSION:2.0
PRODID:-//wp-events-plugin.com//7.1.7//EN
BEGIN:VEVENT
UID:3652@powiat.poznan.pl
DTSTART;VALUE=DATE:20190518
DTEND;VALUE=DATE:20190520
DTSTAMP:20190517T115937Z
URL:https://powiat.poznan.pl/events/bieg-lwa-2019/
SUMMARY:Bieg Lwa 2019
DESCRIPTION:Bieg Lwa 2019
ATTACH;FMTTYPE=image/jpeg:https://powiat.poznan.pl/wp-content/uploads/2019
 /05/bieg-lwa.jpg
CATEGORIES:Sport
LOCATION:Tarnowo Podgórne\, Tarnowo Podgórne\, Tarnowo Podgórne\, Poland
GEO:52.4626443;16.67341639999995
X-APPLE-STRUCTURED-LOCATION;VALUE=URI;X-ADDRESS=Tarnowo Podgórne\, Tarnowo
  Podgórne\, Poland;X-APPLE-RADIUS=100;X-TITLE=Tarnowo Podgórne:geo:52.46
 26443,16.67341639999995
END:VEVENT
END:VCALENDAR