BEGIN:VCALENDAR
VERSION:2.0
PRODID:-//wp-events-plugin.com//7.1.7//EN
BEGIN:VEVENT
UID:8186@powiat.poznan.pl
DTSTART;VALUE=DATE:20240907
DTEND;VALUE=DATE:20240908
DTSTAMP:20240709T055418Z
URL:https://powiat.poznan.pl/events/bieg-pieczonej-pyry-2/
SUMMARY:Bieg Pieczonej Pyry
DESCRIPTION:VII Bieg Pieczonej Pyry\nWięcej informacji kurdeszowazadyszka.
 pl\n\n
ATTACH;FMTTYPE=image/jpeg:https://powiat.poznan.pl/wp-content/uploads/2024
 /07/bieg-pieczonej-pyry.jpg
CATEGORIES:Sport
LOCATION:Iwno\, Park Mielżyńskich\, 62-025 Iwno\, Poland
GEO:52.402143;17.27308
X-APPLE-STRUCTURED-LOCATION;VALUE=URI;X-ADDRESS=Park Mielżyńskich\, 62-02
 5 Iwno\, Poland;X-APPLE-RADIUS=100;X-TITLE=Iwno:geo:52.402143,17.27308
END:VEVENT
END:VCALENDAR