BEGIN:VCALENDAR
VERSION:2.0
PRODID:-//wp-events-plugin.com//7.1.7//EN
BEGIN:VEVENT
UID:5654@powiat.poznan.pl
DTSTART;VALUE=DATE:20221001
DTEND;VALUE=DATE:20221002
DTSTAMP:20220207T104353Z
URL:https://powiat.poznan.pl/events/biegowe-grand-prix-8/
SUMMARY:Biegowe Grand Prix
DESCRIPTION:Biegowe Grand Prix Gminy Kostrzyn\nWięcej informacji TUTAJ\n\n
ATTACH;FMTTYPE=image/jpeg:https://powiat.poznan.pl/wp-content/uploads/2022
 /02/grand_prix_biegow.png
CATEGORIES:Sport
END:VEVENT
END:VCALENDAR