BEGIN:VCALENDAR
VERSION:2.0
PRODID:-//wp-events-plugin.com//7.1.7//EN
BEGIN:VEVENT
UID:4179@powiat.poznan.pl
DTSTART:20191108T100000Z
DTEND:20191108T120000Z
DTSTAMP:20191029T140117Z
URL:https://powiat.poznan.pl/events/biesiada-niepodlegla/
SUMMARY:Biesiada Niepodległa
DESCRIPTION:Biesiada Niepodległa
ATTACH;FMTTYPE=image/jpeg:https://powiat.poznan.pl/wp-content/uploads/2019
 /10/74158432_3307044222676127_2759684816038264832_n.jpg
CATEGORIES:Kultura i sztuka,Uroczystości
LOCATION:Gminna Biblioteka Publiczna w Czerwonaku\, Osiedle Przylesie 7a\, 
 Czerwonak\, 62-004\, Poland
GEO:52.481332;16.98129300000005
X-APPLE-STRUCTURED-LOCATION;VALUE=URI;X-ADDRESS=Osiedle Przylesie 7a\, Czer
 wonak\, 62-004\, Poland;X-APPLE-RADIUS=100;X-TITLE=Gminna Biblioteka Publi
 czna w Czerwonaku:geo:52.481332,16.98129300000005
END:VEVENT
END:VCALENDAR