BEGIN:VCALENDAR
VERSION:2.0
PRODID:-//wp-events-plugin.com//7.1.7//EN
BEGIN:VEVENT
UID:9250@powiat.poznan.pl
DTSTART:20250816T140000Z
DTEND:20250816T220000Z
DTSTAMP:20250722T132520Z
URL:https://powiat.poznan.pl/events/blusowo-dla-calych-rodzin/
SUMMARY:BLusowo dla całych rodzin
DESCRIPTION:Powraca Festiwal BLusowo! 16 sierpnia nad Jeziorem Lusowskim za
 grają: Voo Voo\, Kraków Street Band\, Lucky Troubles i Blues Monkey. BLu
 sowo to\, od lat\, więcej niż tylko blues. Dedykowany całym rodzinom\, 
 darmowy festiwal oferuje rozbudowaną strefę dziecięcą\, integruje poko
 lenia i przyciąga miłośników muzyki z całego kraju. Na swojej scenie 
 gości czołowych polskich wykonawców bluesa i gatunków pokrewnych\, stw
 arza również okazję do prezentacji dla mniej znanych muzyków z dużym 
 potencjałem artystycznym. Imprezę rozpocznie finał konkursu o Grand Pri
 x BLusowa 2025. Zmierzy się w nim czworo wykonawców. Zmaganiom finalist
 ów\, wraz z publicznością przysłuchiwać się będzie jury\, które wy
 łoni zwycięzcę. Następnie scenę przejmą tegoroczne gwiazdy.\n\nBLuso
 wo\n15:00-19:00: Strefa dziecięca\n15:30-18:00: Konkurs kapel bluesowych\
 n18:15: Lucky Troubles\n19:15: Blues Monkey\n20:00: Ogłoszenie wyników k
 onkursu\n20:15: Kraków Street Band\n21:45: Voo Voo\n\n\n\n&nbsp\;
ATTACH;FMTTYPE=image/jpeg:https://powiat.poznan.pl/wp-content/uploads/2025
 /07/normal_dc5737715ee62a749a816f2542bf59993b99cb9e.png
CATEGORIES:Kultura i sztuka,Społeczne
LOCATION:Lusowo\, jezioro Lusowkie\, Lusowo\, Poland
GEO:52.430349;16.664625
X-APPLE-STRUCTURED-LOCATION;VALUE=URI;X-ADDRESS=jezioro Lusowkie\, Lusowo\,
  Poland;X-APPLE-RADIUS=100;X-TITLE=Lusowo:geo:52.430349,16.664625
END:VEVENT
END:VCALENDAR