BEGIN:VCALENDAR
VERSION:2.0
PRODID:-//wp-events-plugin.com//7.1.7//EN
BEGIN:VEVENT
UID:9683@powiat.poznan.pl
DTSTART:20260425T090000Z
DTEND:20260425T130000Z
DTSTAMP:20260413T080651Z
URL:https://powiat.poznan.pl/events/bractwo-motoryzacyjne-zaprasza-na-rajd
 /
SUMMARY:Bractwo motoryzacyjne zaprasza na rajd
DESCRIPTION:Bractwo Motoryzacyjne Koprasa zaprasza na coroczny rajd samocho
 dowy z okazji "Dnia Kobiet". Wydarzenie odbędzie się 25 kwietnia. Start 
 pierwszej załogi o godz. 10:00. Zapisy startują 8 marca o północy.\n\n
ATTACH;FMTTYPE=image/jpeg:https://powiat.poznan.pl/wp-content/uploads/2026
 /04/rajd-pan-2026-002-scaled.jpg
CATEGORIES:Rozrywka,Społeczne,Turystyka i rekreacja
LOCATION:Fiałkowo\, Więckowska 80\, Fiałkowo\, Polska\, 62-070\, Poland
GEO:52.37262;16.661463
X-APPLE-STRUCTURED-LOCATION;VALUE=URI;X-ADDRESS=Więckowska 80\, Fiałkowo\
 , Polska\, 62-070\, Poland;X-APPLE-RADIUS=100;X-TITLE=Fiałkowo:geo:52.372
 62,16.661463
END:VEVENT
END:VCALENDAR