BEGIN:VCALENDAR
VERSION:2.0
PRODID:-//wp-events-plugin.com//7.1.7//EN
BEGIN:VEVENT
UID:9019@powiat.poznan.pl
DTSTART:20250604T230000Z
DTEND:20250607T230000Z
DTSTAMP:20250509T092827Z
URL:https://powiat.poznan.pl/events/caly-poznan-ukulele-4/
SUMMARY:Cały Poznań Ukulele!
DESCRIPTION:Ukulele – mały\, radosny instrument\, kojarzący się z Hawa
 jami\, słońcem\, oceanem\, wolnością i radością\, wzbudzający uśmi
 ech na twarzy każdej osoby\, która po niego sięgnie lub usłyszy. Od dz
 iewięciu lat ukulelową stolicą naszego kraju jest Poznań. W dniach od 
 5 do 8 czerwca odbędzie się kolejna\, dziewiąta już edycja największe
 go europejskiego festiwalu poświęconego temu instrumentowi\, czyli Cały
  Poznań Ukulele. Miasteczko festiwalowe ponownie powstanie na Placu Wolno
 ści w Poznaniu! Festiwal Cały Poznań Ukulele to wydarzenie dla wszystki
 ch\, dla dzieci\, młodzieży\, seniorów oraz całych rodzin\, a tegorocz
 ny program to tradycyjnie już połączenie różnych elementów – artys
 tycznych\, performatywnych i edukacyjnych.\n\n– Festiwal rozpoczną konc
 erty klubowe w jednym z najstarszych poznańskich klubów muzycznych – M
 uchos. To właśnie tam w czwartek 5 czerwca rozpoczniemy występami takic
 h artystów Marek Gordziej a autorskim projektem „Mars”\, Ronji Maltza
 hn z Niemiec i zespołu The Sectrets z Wielkiej Brytanii. 6 czerwca w pią
 tkowe popołudnie o godz. 17:00 ruszą scena główna i miasteczko festiwa
 lowe na placu Wolności. Zaprosimy na wspólne granie i śpiewanie\, a poz
 a fantastycznymi koncertami\, m.in. poznańskiej artystki Ranko Ukulele or
 az 30 osobowego irlandzkiego zespołu Dublin  Ukulele  Collective będzi
 e można także potańczyć w polinezyjskich rytmach z Avei Varu x Hinatea
  – informują organizatorzy.\n\n– Tradycyjnie już\, w sobotę 7 czerw
 ca o godz. 12:00 muzycy z Pierwszej Poznańskiej Niesymfonicznej Orkiestry
  Ukulele (PPNOU) wejdą na wieżę poznańskiego Ratusza i zagrają na uku
 lele hejnał\, który symbolicznie potwierdzi obecność Festiwalu w naszy
 m mieście. Od godziny 13:00 na placu Wolności przez całą sobotę i nie
 dzielę będzie działać miasteczko festiwalowe\, a scena główna (oraz 
 mniejsze) będą wybrzmiewać do wieczora. Jak zawsze Festiwal i odbywają
 ce się w jego ramach działania (koncerty\, warsztaty) są całkowicie da
 rmowe dla wszystkich chętnych – dodają organizatorzy\, którzy zaprosi
 li artystów z Hawajów\, Portugalii\, Niemiec\, Hiszpanii\, Anglii\,  Ir
 landii\, Szkocji\, Węgier\, Słowacji i Czech\, ale nie zabraknie także 
 artystów z Polski i Poznania.\n\nW niedzielę 8 czerwca przed godziną 19
 :00 tuż przed finałem imprezy\, tradycyjnie już muzycy z Pierwszej Pozn
 ańskiej Niesymfonicznej Orkiestry Ukulele wystąpią z projektem łączą
 cym klasykę z Ukulele. Tym razem do projektu „Uku w Operze” zaprosili
  wybitnego wokalistę znanego z projektu Tre Voci – Mikołaja Adamczaka\
 , któremu będzie towarzyszyć m.in. zespół Sopranissimo. Gwarantuje to
  nie tylko wspaniałą\, radosną atmosferę\, ale przede wszystkim najwy
 ższy poziom wykonawczy. Poznańską scenę muzyczną poza PPNOU będą re
 prezentować wykonawcy w każdym wieku\, estradę wypełni kilkadziesiąt 
 młodych ukulelistek i ukulelistów z projektu Ukulelowe Łejery\, pojawi 
 się znana festiwalowiczom Ukupolalele z gośćmi\, która rośnie i rozwi
 ja się razem z festiwalem.\n\nBędzie można także posłuchać wyjątkow
 ego projektu\, stworzonego z poznańskich seniorów – SeniorUki\, zespó
 ł który zdobywa serca publiczności podczas wielu wydarzeń w Poznaniu i
  który nie zamierza się zatrzymywać. – Każdy też może przyjść i 
 samemu zacząć grać na ukulele! Jak co roku w programie Festiwalu znajd
 ą się bezpłatne warsztaty\, a „dla zainteresowanych mamy kilkadziesi
 ąt instrumentów\, które będziemy bezpłatnie wypożyczać! – podkre
 śla Piotr Kończal\, organizator festiwalu. Poza tym w miasteczku Festiwa
 lowym na Placu Wolności znajdzie się ponownie UKU-BUS\, czyli specjalny 
 muzyczny autokar\, który będzie otwartą sceną dla wykonawców amatoró
 w\, a także będzie Poradnią Ukulelową\, czyli miejscem\, gdzie można 
 zapytać o wszystko co związane z tym najradośniejszym z instrumentów. 
 Wszystkie atrakcje są całkowicie bezpłatne! Więcej informacji na stron
 ie wydarzenia.\n\n
ATTACH;FMTTYPE=image/jpeg:https://powiat.poznan.pl/wp-content/uploads/2025
 /05/plakat.jpg
CATEGORIES:Dla dzieci,Dla seniora,Kultura i sztuka,Rozrywka
LOCATION:Plac Wolności Poznań\, Plac Wolności\, Poznań\, Poland
GEO:52.4084559;16.926896199999987
X-APPLE-STRUCTURED-LOCATION;VALUE=URI;X-ADDRESS=Plac Wolności\, Poznań\, 
 Poland;X-APPLE-RADIUS=100;X-TITLE=Plac Wolności Poznań:geo:52.4084559,16
 .926896199999987
END:VEVENT
END:VCALENDAR