BEGIN:VCALENDAR
VERSION:2.0
PRODID:-//wp-events-plugin.com//7.1.7//EN
BEGIN:VEVENT
UID:8536@powiat.poznan.pl
DTSTART:20241020T160000Z
DTEND:20241020T160000Z
DTSTAMP:20241015T093131Z
URL:https://powiat.poznan.pl/events/capstrzyk-patriotyczny-w-kostrzynie/
SUMMARY:Capstrzyk Patriotyczny w Kostrzynie
DESCRIPTION:Capstrzyk Patriotyczny\nWięcej informacji kostrzyn.wlkp.pl\n\n
ATTACH;FMTTYPE=image/jpeg:https://powiat.poznan.pl/wp-content/uploads/2024
 /10/capsrzyk_2024_kostrzyn.jpg
CATEGORIES:Uroczystości
LOCATION:Miejsko-Gminny Ośrodek Kultury w Kostrzynie\, Miejsko-Gminny Ośr
 odek Kultury w Kostrzynie\, Kostrzyn\, Poland
GEO:52.3977079;17.221118100000012
X-APPLE-STRUCTURED-LOCATION;VALUE=URI;X-ADDRESS=Miejsko-Gminny Ośrodek Kul
 tury w Kostrzynie\, Kostrzyn\, Poland;X-APPLE-RADIUS=100;X-TITLE=Miejsko-G
 minny Ośrodek Kultury w Kostrzynie:geo:52.3977079,17.221118100000012
END:VEVENT
END:VCALENDAR