BEGIN:VCALENDAR
VERSION:2.0
PRODID:-//wp-events-plugin.com//7.1.7//EN
BEGIN:VEVENT
UID:9562@powiat.poznan.pl
DTSTART:20260110T143000Z
DTEND:20260110T163000Z
DTSTAMP:20260108T124425Z
URL:https://powiat.poznan.pl/events/charytatywny-koncert-koled-i-pastorale
 k/
SUMMARY:Charytatywny koncert kolęd i pastorałek w Rokietnicy
DESCRIPTION:Dwa dni wspólnego kolędowania\, jeden piękny repertuar z kol
 ejnymi\, nowymi kolędami i pastorałkami w niesamowitej oprawie muzycznej
 . Nasz chór KTÓŻ JAK BÓG Chór Parafialny Poznań-Kiekrz oraz zaprzyja
 źniona orkiestra WIL Operacja - Muzyka\, wyjątkowi soliści i kolejne\, 
 niezwykłe emocje\, które jak co roku będą towarzyszyć nam oraz przyby
 łym na koncerty słuchaczom!\nDlatego? - nie może Was zabraknąć!\nZapr
 aszamy! Zabierzcie ze sobą rodzinę\, znajomych\, sąsiadów i bądźcie 
 z nami w tym wyjątkowym czasie Wybierzmy się razem w cudowną podróż r
 adości z narodzenia Jezusa i oddajmy cześć Maleńkiemu. Szczegóły na 
 plakatach oraz w wydarzeniach przypiętych u góry naszej facebookowej str
 ony!\n\n
ATTACH;FMTTYPE=image/jpeg:https://powiat.poznan.pl/wp-content/uploads/2026
 /01/r1.jpg
CATEGORIES:Dla dzieci,Dla seniora,Koncert,Kultura i
 sztuka,Rozrywka,Społeczne
LOCATION:Parafia Chrystusa Króla\, ul. Szamotulska 30 A\, Rokietnica\, Pol
 and
GEO:52.512082;16.739951
X-APPLE-STRUCTURED-LOCATION;VALUE=URI;X-ADDRESS=ul. Szamotulska 30 A\, Roki
 etnica\, Poland;X-APPLE-RADIUS=100;X-TITLE=Parafia Chrystusa Króla:geo:52
 .512082,16.739951
END:VEVENT
END:VCALENDAR