BEGIN:VCALENDAR
VERSION:2.0
PRODID:-//wp-events-plugin.com//7.1.7//EN
BEGIN:VEVENT
UID:8465@powiat.poznan.pl
DTSTART:20241026T110000Z
DTEND:20241026T110000Z
DTSTAMP:20241003T081802Z
URL:https://powiat.poznan.pl/events/cross-duathlon-zarnowiec-3/
SUMMARY:Cross Duathlon Żarnowiec
DESCRIPTION:Cross Duathlon Żarnowiec\nWięcej informacji na dopiewo.pl\n\n
ATTACH;FMTTYPE=image/jpeg:https://powiat.poznan.pl/wp-content/uploads/2024
 /10/zarnowiec_duathlon-logo.webp
CATEGORIES:Sport
LOCATION:Wiata w Żarnowcu\, Żarnowiec\, 62-070 Żarnowiec\, Poland
GEO:50.478547;19.86271
X-APPLE-STRUCTURED-LOCATION;VALUE=URI;X-ADDRESS=Żarnowiec\, 62-070 Żarnow
 iec\, Poland;X-APPLE-RADIUS=100;X-TITLE=Wiata w Żarnowcu:geo:50.478547,19
 .86271
END:VEVENT
END:VCALENDAR