BEGIN:VCALENDAR
VERSION:2.0
PRODID:-//wp-events-plugin.com//7.1.7//EN
BEGIN:VEVENT
UID:8991@powiat.poznan.pl
DTSTART:20250425T230000Z
DTEND:20250827T230000Z
DTSTAMP:20250507T094852Z
URL:https://powiat.poznan.pl/events/cwicz-tancz-baw-sie/
SUMMARY:Ćwicz\, tańcz\, baw się!
DESCRIPTION:Zapraszamy na zajęcia w Parku Rekreacyjnym w Dąbrówce\, ul. 
 Komornicka w dniach:\n- 26.04.2025\n- 17 i 24.05.2025\n- 5 i 19.06.2025\n-
  10.07.2025\n- 21 i 28.08.2025\n\n\n\n&nbsp\;
ATTACH;FMTTYPE=image/jpeg:https://powiat.poznan.pl/wp-content/uploads/2025
 /05/fitness-w-parku.jpeg.webp
CATEGORIES:Kultura i sztuka,Rozrywka,Społeczne,Warsztaty
END:VEVENT
END:VCALENDAR