BEGIN:VCALENDAR
VERSION:2.0
PRODID:-//wp-events-plugin.com//7.1.7//EN
BEGIN:VEVENT
UID:4002@powiat.poznan.pl
DTSTART:20190907T070000Z
DTEND:20190907T130000Z
DTSTAMP:20190826T125803Z
URL:https://powiat.poznan.pl/events/cytobus-w-biedrusku/
SUMMARY:Cytobus w Biedrusku
DESCRIPTION:Cytobus przyjedzie do Biedruska - już teraz zapisz się na bez
 płatne badania cytologiczne
ATTACH;FMTTYPE=image/jpeg:https://powiat.poznan.pl/wp-content/uploads/2019
 /08/zdrowie.jpg
CATEGORIES:Zdrowie
LOCATION:Dom Osiedlowy\, ul. Zjednoczenia 4\, Biedrusko\, Wielkopolskie\, P
 oland
GEO:52.54682039999999;16.9445068
X-APPLE-STRUCTURED-LOCATION;VALUE=URI;X-ADDRESS=ul. Zjednoczenia 4\, Biedru
 sko\, Wielkopolskie\, Poland;X-APPLE-RADIUS=100;X-TITLE=Dom Osiedlowy:geo:
 52.54682039999999,16.9445068
END:VEVENT
END:VCALENDAR