BEGIN:VCALENDAR
VERSION:2.0
PRODID:-//wp-events-plugin.com//7.1.7//EN
BEGIN:VEVENT
UID:9245@powiat.poznan.pl
DTSTART:20250720T180000Z
DTEND:20250720T200000Z
DTSTAMP:20250718T070749Z
URL:https://powiat.poznan.pl/events/czarnina-w-skrzynkach/
SUMMARY:Czarnina w Skrzynkach
DESCRIPTION:Od pierwszych skocznych taktów zabierają słuchaczy w egzotyc
 zną podróż i zdobywają ich serca ekscytującą mieszanką tradycyjnych
  melodii romskich\, rumuńskich\, bałkańskich i bliskowschodnich. Tak z 
 pewnością będzie też 20 lipca\, gdy zespół Czarnina zjedzie do Dworu
  Skrzynki ze swym muzycznym taborem\, by wieczorem spod starych parkowych 
 drzew popłynęły najpiękniejsze melodie. Koncert w plenerze rozpocznie 
 się o 19.00.\n\n
ATTACH;FMTTYPE=image/jpeg:https://powiat.poznan.pl/wp-content/uploads/2025
 /07/strona-1-1024x682-1.jpg
CATEGORIES:Kultura i sztuka
LOCATION:Dwór Skrzynki\, Plac Parkowy 1\, Skrzynki\, gm. Stęszew\, 62-060
 \, Poland
GEO:52.342096;16.606405
X-APPLE-STRUCTURED-LOCATION;VALUE=URI;X-ADDRESS=Plac Parkowy 1\, Skrzynki\,
  gm. Stęszew\, 62-060\, Poland;X-APPLE-RADIUS=100;X-TITLE=Dwór Skrzynki:
 geo:52.342096,16.606405
END:VEVENT
END:VCALENDAR