BEGIN:VCALENDAR
VERSION:2.0
PRODID:-//wp-events-plugin.com//7.1.7//EN
BEGIN:VEVENT
UID:9580@powiat.poznan.pl
DTSTART:20260307T180000Z
DTEND:20260307T200000Z
DTSTAMP:20260203T070259Z
URL:https://powiat.poznan.pl/events/daria-ze-slaska-w-suchym-lesie/
SUMMARY:Daria ze Śląska w Suchym Lesie
DESCRIPTION:Po intensywnej jesiennej trasie Daria ze Śląska wraca do konc
 ertowania. Pierwsza część roku to przede wszystkim przygotowania do wyd
 ania trzeciego albumu\, ale zanim do tego dojdzie\, artystka zagra jeszcze
  kilka koncertów\, na których przedpremierowo usłyszymy nowy materiał.
  Na liście występów znajdą się miasta nieodwiedzane przy okazji ostat
 niej trasy jak Wrocław\, rodzinne Katowice czy Kielce oraz Suchy Las. W s
 ali widowiskowej Centrum Kultury i Biblioteki Publicznej Gminy Suchy Las w
 ystąpi 7 marca o godz. 19:00 (koncert siedzący). Bilety: 120/90 zł (N/U
 ) do nabycia na www.bilety24.pl oraz w sekretariacie CKiBP\n\nDaria ze Śl
 ąska miała wiele planów na to\, kim chce zostać w przyszłości. Nie w
 ypalił żaden. Wiadomo\, życie pisze różne scenariusze a ona swoje smu
 tne piosenki. Mówi\, że gdyby nie śpiewała\, pisałaby teksty reklamow
 e\, albo powieści science-fiction. Jest ufna\, cierpi na niezdecydowanie\
 , a w smutku czuje się najbezpieczniej. Pierwszy album wydała w 2022 rok
 u. Za „Tu była” otrzymała dwa Fryderyki (w kategorii Album Roku Indi
 e Pop i Debiut Roku). Sukces debiutanckiego krążka przyniósł intensywn
 y czas w trasie koncertowej i nowy materiał.\n\nWiosną 2024 roku Daria Z
 e Śląska wydała płytę „Na Południu bez zmian”\, równie emocjona
 lną\, niekiedy bardziej hiphopową w swojej formie\, kontynuację debiutu
 . Świetny odbiór albumu zaowocował występami na festiwalach (Open’er
 \, Nowa Muzyka\, Męskie Granie)\, po których przyszedł czas na jesienn
 ą trasę\, na której Daria wystąpiła w ponad 20 miastach w całym kraj
 u. Rok 2024 artystka zakończyła nominacją do prestiżowej nagrody Paszp
 orty POLITYKI i Olśnień Onetu\, a początek 2025 przyniósł kolejną ju
 ż nagrodę Fryderyka w kategorii Album Roku Pop Alternatywny. W 2026 uka
 że się 3 solowy album Darii\, a koncerty w pierwszych miesiącach roku b
 ędą okazją na usłyszenie części materiału przedpremierowo.\n\n\n\n&
 nbsp\;
ATTACH;FMTTYPE=image/jpeg:https://powiat.poznan.pl/wp-content/uploads/2026
 /02/1200x628daria.jpg
CATEGORIES:Koncert
LOCATION:Centrum Kultury i Biblioteka Publiczna Gminy Suchy Las\, ul. Szkol
 na 16\, Suchy Las\, 62-002\, Poland
GEO:52.562464;16.798811900000032
X-APPLE-STRUCTURED-LOCATION;VALUE=URI;X-ADDRESS=ul. Szkolna 16\, Suchy Las\
 , 62-002\, Poland;X-APPLE-RADIUS=100;X-TITLE=Centrum Kultury i Biblioteka 
 Publiczna Gminy Suchy Las:geo:52.562464,16.798811900000032
END:VEVENT
END:VCALENDAR