BEGIN:VCALENDAR
VERSION:2.0
PRODID:-//wp-events-plugin.com//7.1.7//EN
BEGIN:VEVENT
UID:5223@powiat.poznan.pl
DTSTART:20210611T230000Z
DTEND:20210611T230000Z
DTSTAMP:20210518T080832Z
URL:https://powiat.poznan.pl/events/dgc-trail-challenge/
SUMMARY:DGC trail challenge
DESCRIPTION:
ATTACH;FMTTYPE=image/jpeg:https://powiat.poznan.pl/wp-content/uploads/2021
 /05/received_526739744990361.jpeg
CATEGORIES:Rozrywka
LOCATION:Pałac Biedrusko\, 1 maja 82\, Biedrusko\, Wielkopolska\, 62-003\,
  Poland
GEO:52.542209;16.950501
X-APPLE-STRUCTURED-LOCATION;VALUE=URI;X-ADDRESS=1 maja 82\, Biedrusko\, Wie
 lkopolska\, 62-003\, Poland;X-APPLE-RADIUS=100;X-TITLE=Pałac Biedrusko:ge
 o:52.542209,16.950501
END:VEVENT
END:VCALENDAR