BEGIN:VCALENDAR
VERSION:2.0
PRODID:-//wp-events-plugin.com//7.1.7//EN
BEGIN:VEVENT
UID:9264@powiat.poznan.pl
DTSTART:20250830T110000Z
DTEND:20250830T150000Z
DTSTAMP:20250801T130330Z
URL:https://powiat.poznan.pl/events/dni-architektury-drewnianej/
SUMMARY:Dni Architektury Drewnianej
DESCRIPTION:Dni Architektury Drewnianej to wydarzenie organizowane przez Na
 rodowy Instytut Dziedzictwa poświęcone promocji i popularyzacji dziedzic
 twa architektury drewnianej. Jego główną ideą jest bezpłatne udostęp
 nianie zabytkowych obiektów drewnianych szerokiej publiczności przez ich
  właścicieli\, użytkowników i opiekunów.\nW tegorocznej edycji Dni Ar
 chitektury Drewnianej na terenie powiatu poznańskiego bierze udział zaby
 tkowy dworzec kolejowy w Puszczykowie. Partnerami wydarzenia są: Pani Kat
 arzyna Bekasiak\, współwłaścicielka budynku dworca\, Restauracja „Lo
 komotywa” w Puszczykowie oraz powiat poznański.\nBudynek dworca w Puszc
 zykowie jest laureatem Ogólnopolskiego Konkursu “Zabytek Zadbany” z 2
 021 r. w kategorii Architektura i Budownictwo Drewniane.\n\nW sobotę 30 s
 ierpnia 2025 r. w godzinach 12:00 -16:00 zapraszamy wszystkich zainteresow
 anych\, w szczególności miłośników zabytków i smacznych ciasteczek p
 rzygotowanych przez restaurację „Lokomotywa” na prezentację dworca p
 ołączoną z oprowadzaniem oraz omówieniem historii i wykonanych pracach
  konserwatorskich.\nO godz. 13:00 odbędzie się prezentacja zabytku przez
  właściciela oraz oprowadzanie po obiekcie przy udziale Powiatowego Kons
 erwatora Zabytków ze Starostwa Powiatowego w Poznaniu (dojazd do dworca w
  Puszczykowie z Poznania liniami PKP)\n\nChęć udziału prosimy zgłasza
 ć na adres e-mail: daria.olejniczak@powiat.poznan.pl.\n\n\n\n\n\n
ATTACH;FMTTYPE=image/jpeg:https://powiat.poznan.pl/wp-content/uploads/2025
 /08/plakat.png
CATEGORIES:Edukacja,Kultura i sztuka,Społeczne
LOCATION:Dworzec PKP w Puszczykowie\, ul. Poznańska 1\, Puszczykowo\, Pola
 nd
GEO:52.302848;16.867437999999993
X-APPLE-STRUCTURED-LOCATION;VALUE=URI;X-ADDRESS=ul. Poznańska 1\, Puszczyk
 owo\, Poland;X-APPLE-RADIUS=100;X-TITLE=Dworzec PKP w Puszczykowie:geo:52.
 302848,16.867437999999993
END:VEVENT
END:VCALENDAR