BEGIN:VCALENDAR
VERSION:2.0
PRODID:-//wp-events-plugin.com//7.1.7//EN
BEGIN:VEVENT
UID:9093@powiat.poznan.pl
DTSTART:20250605T230000Z
DTEND:20250607T230000Z
DTSTAMP:20250522T094037Z
URL:https://powiat.poznan.pl/events/dni-gminy-buk-6/
SUMMARY:Dni gminy Buk
DESCRIPTION:Już wkrótce Dni Gminy Buk 2025! Sprawdź\, co się będzie dz
 iało w tym roku i śledź wydarzenie\, aby lepiej poznać tegorocznych ar
 tystów! Koncerty\, wernisaż\, parada orkiestr\, lokalna strefa gastronom
 iczna\, zabawy i animacje dla dzieci oraz wiele innych atrakcji – to wsz
 ystko już na początku czerwca. Zapisz w swoim kalendarzu 6\,7 i 8 czerwc
 a – Park Sokoła\, ul. Dobieżyńska 27. Zobacz program Dni Gminy Buk 20
 25. Więcej https://fb.me/e/67afzg4po\n\n\n\n&nbsp\;
ATTACH;FMTTYPE=image/jpeg:https://powiat.poznan.pl/wp-content/uploads/2025
 /05/b1.jpg
CATEGORIES:Dla dzieci,Dla seniora,Piknik,Rozrywka
END:VEVENT
END:VCALENDAR