BEGIN:VCALENDAR
VERSION:2.0
PRODID:-//wp-events-plugin.com//7.1.7//EN
BEGIN:VEVENT
UID:9230@powiat.poznan.pl
DTSTART;VALUE=DATE:20250628
DTEND;VALUE=DATE:20250630
DTSTAMP:20250625T102253Z
URL:https://powiat.poznan.pl/events/dni-gminy-kleszczewo-6/
SUMMARY:Dni Gminy Kleszczewo
DESCRIPTION:Już 28 i 29 czerwca 2025 roku zapraszamy na wyjątkowe Dni Gmi
 ny Kleszczewo\, podczas których wspólnie uczcimy 35-lecie samorządnośc
 i naszej gminy – z dobrą muzyką\, atrakcjami dla całych rodzin i pozy
 tywną energią! W sobotę czeka nas m.in. Turniej Sołectw w kręgle Mol
 kky\, rodzinne animacje i dmuchańce\, spektakl dla dzieci oraz wieczorn
 y seans kina plenerowego. A jeśli masz w sobie fitnessowy zapał\, nie p
 rzegap Maratonu RETROMUSIC FIT 90s – będzie energia i hity sprzed lat!
 \n\nW niedzielę bawimy się od popołudnia aż do późnego wieczora – 
 w programie liczne warsztaty\, konkursy\, występy lokalnych artystów\, k
 oncert zespołu AllDęte\, występ Pawła Tura\, a kulminacyjnym punktem b
 ędzie koncert legendarnego zespołu Raz Dwa Trzy\, który (podobnie jak n
 asza gmina) świętuje swoje 35-lecie działalności! Na najmłodszych cze
 kać będzie bezpłatna strefa rekreacji z animacjami\, dmuchańcami\, mal
 owaniem twarzy i warkoczykami. To doskonała okazja\, by spędzić czas ra
 zem – na luzie\, lokalnie i z kulturą.\n\nSOBOTA - 28 czerwca\n\nMAŁA 
 STREFA REKREACYJNA 16:00-19:00\n- bezpłatne dmuchańce i animacje dla dz
 ieci\n\nSTREFA SPORTOWA\n12:00 Maraton Fitness - RETROMUSIC FIT 90s (hala 
 sportowa)\n16:00 Turniej Sołectw Gminy Kleszczewo w kręgle Molkky (Orli
 k)\n\nSTREFA ARTYSTYCZNA\n16:00 spektakl dla dzieci „Elmer\, słoń w k
 ratę” - Teatr Fuzja\n21:30 kino plenerowe\n\nNIEDZIELA - 29 czerwca\n\n
 STREFA REKREACYJNA 15:00 – 21:00\n- bezpłatne dmuchańce i animacje dl
 a dzieci\n- bezpłatne warkoczyki i malowanie twarzy\n- Przygoda na lat(
 a) - harcerze z 8WDH Pasieka im. Jana Bytnara\n- warsztaty twórcze GOKiS
 \n- akcja „Wymiana elektro-śmieci na rośliny”\n- punkt informacyjny
  programu Czyste Powietrze\n- konkurs wiedzy „35 lat samorządu Gminy Kl
 eszczewo”\n- portret mieszkańców na 35-lecie samorządu Gminy Kleszcz
 ewo\n\nSTREFA KONCERTOWA\n15:30 – występy dzieci\n16:00 – Teatr Fuzja
  dla dzieci „Ciocia Jadzia”\n17:00 – występ zespołu Kleszczewianie
 \n17:30 – koncert AllDęte\n19:00 – koncert Paweł Tur\n20:30 – konc
 ert Raz Dwa Trzy\n\nMIEJSCE\nKompleks boisk sportowych GOKiS w Kleszczewi
 e\n\nOrganizatorzy:\nGminny Ośrodek Kultury i Sportu w Kleszczewie\nUrz
 ąd Gminy Kleszczewo\n\n
ATTACH;FMTTYPE=image/jpeg:https://powiat.poznan.pl/wp-content/uploads/2025
 /06/plakat_a3_druk_1.jpg
CATEGORIES:Dla dzieci,Dla seniora,Edukacja,Rozrywka,Sport
LOCATION:Hala sportowa GOKiS w Kleszczewie\, Hala sportowa GOKiS w Kleszcze
 wie\, Kleszczewo\, Poland
GEO:52.3362489;17.166161999999986
X-APPLE-STRUCTURED-LOCATION;VALUE=URI;X-ADDRESS=Hala sportowa GOKiS w Klesz
 czewie\, Kleszczewo\, Poland;X-APPLE-RADIUS=100;X-TITLE=Hala sportowa GOKi
 S w Kleszczewie:geo:52.3362489,17.166161999999986
END:VEVENT
END:VCALENDAR