BEGIN:VCALENDAR
VERSION:2.0
PRODID:-//wp-events-plugin.com//7.1.7//EN
BEGIN:VEVENT
UID:8987@powiat.poznan.pl
DTSTART;VALUE=DATE:20250607
DTEND;VALUE=DATE:20250609
DTSTAMP:20250507T080720Z
URL:https://powiat.poznan.pl/events/dni-gminy-suchy-las-6/
SUMMARY:Dni Gminy Suchy Las
DESCRIPTION:Dni Gminy Suchy Las w tym roku odbędą się 7-8 czerwca wokó
 ł hali Gminnego Ośrodka Sportu w stolicy gminy. Będzie to weekend pełe
 n atrakcji i niezapomnianych wrażeń. Podobnie jak w roku ubiegłym\, pie
 rwszego dnia główną atrakcją będą koncerty\, a drugiego postawimy na
  sport!\n\n\nW tym roku zagrają:\n– VARIUS MANX &amp\; KASIA STANKIEWIC
 Z– ØRGANEK– lokalni wykonawcy\nWszystkie\, nie tylko artystyczne\, ap
 etyty zaspokoi strefa gastronomiczna. Po zeszłorocznym sukcesie festiwalu
  food trucków\, zapraszamy Was na kolejną edycję. Pyszności z różnyc
 h stron świata będziecie mogli zjeść zarówno w sobotę\, jak i w nied
 zielę. Podczas dwudniowego świętowania nie zabraknie atrakcji dla naszy
 ch najmłodszych mieszkańców – będzie sportowo\, będą animacje\, dm
 uchańce\, zabawy i konkursy. Całość wzbogacą stoiska promocyjne\, han
 dlowe.\n\n\n\n
ATTACH;FMTTYPE=image/jpeg:https://powiat.poznan.pl/wp-content/uploads/2025
 /05/1240x500a-1024x413-1.jpg
CATEGORIES:Dla dzieci,Kultura i sztuka,Rozrywka,Sport,Turystyka i
 rekreacja
LOCATION:Centrum Kultury i Biblioteka Publiczna Gminy Suchy Las\, ul. Szkol
 na 16\, Suchy Las\, 62-002\, Poland
GEO:52.562464;16.798811900000032
X-APPLE-STRUCTURED-LOCATION;VALUE=URI;X-ADDRESS=ul. Szkolna 16\, Suchy Las\
 , 62-002\, Poland;X-APPLE-RADIUS=100;X-TITLE=Centrum Kultury i Biblioteka 
 Publiczna Gminy Suchy Las:geo:52.562464,16.798811900000032
END:VEVENT
END:VCALENDAR