BEGIN:VCALENDAR
VERSION:2.0
PRODID:-//wp-events-plugin.com//7.1.7//EN
BEGIN:VEVENT
UID:8562@powiat.poznan.pl
DTSTART:20241027T100000Z
DTEND:20241027T140000Z
DTSTAMP:20241025T122709Z
URL:https://powiat.poznan.pl/events/dni-otwarte-w-muzeum-motoryzacji-w-pus
 zczykowie/
SUMMARY:Dni otwarte w Muzeum Motoryzacji w Puszczykowie
DESCRIPTION:Dni otwarte w Muzeum Motoryzacji\nWięcej informacji na puszczy
 kowo.pl\n\n
ATTACH;FMTTYPE=image/jpeg:https://powiat.poznan.pl/wp-content/uploads/2024
 /10/dni_otwarte_muzeum_motoryzacji_2024_puszczykowo.jpg
CATEGORIES:wystawa
LOCATION:Muzeum Polskiej Mororyzacji\, ul. Klasztorna 7\, 62-040 Puszczykow
 o\, Poland
GEO:52.292866;16.849496
X-APPLE-STRUCTURED-LOCATION;VALUE=URI;X-ADDRESS=ul. Klasztorna 7\, 62-040 P
 uszczykowo\, Poland;X-APPLE-RADIUS=100;X-TITLE=Muzeum Polskiej Mororyzacji
 :geo:52.292866,16.849496
END:VEVENT
END:VCALENDAR