BEGIN:VCALENDAR
VERSION:2.0
PRODID:-//wp-events-plugin.com//7.1.7//EN
BEGIN:VEVENT
UID:7751@powiat.poznan.pl
DTSTART;VALUE=DATE:20240629
DTEND;VALUE=DATE:20240701
DTSTAMP:20240329T105227Z
URL:https://powiat.poznan.pl/events/dni-swarzedza-2024/
SUMMARY:Dni Swarzędza 2024
DESCRIPTION:Dni Swarzędza 2024\nWięcej informacji na 0k-swarzedz.pl\n\n
ATTACH;FMTTYPE=image/jpeg:https://powiat.poznan.pl/wp-content/uploads/2024
 /03/dni-swarzedza.jpg
CATEGORIES:Dla dzieci,Dla seniora,Kultura i sztuka,Rozrywka
LOCATION:Polana Miejska przy ul. Strzeleckiej\, ul. Strzelecka\, Swarzędz\
 , Poland
GEO:52.409553;17.061387
X-APPLE-STRUCTURED-LOCATION;VALUE=URI;X-ADDRESS=ul. Strzelecka\, Swarzędz\
 , Poland;X-APPLE-RADIUS=100;X-TITLE=Polana Miejska przy ul. Strzeleckiej:g
 eo:52.409553,17.061387
END:VEVENT
END:VCALENDAR