BEGIN:VCALENDAR
VERSION:2.0
PRODID:-//wp-events-plugin.com//7.1.7//EN
BEGIN:VEVENT
UID:9087@powiat.poznan.pl
DTSTART;VALUE=DATE:20250628
DTEND;VALUE=DATE:20250630
DTSTAMP:20250522T092305Z
URL:https://powiat.poznan.pl/events/dni-swarzedza-4/
SUMMARY:Dni Swarzędza
DESCRIPTION:Serdecznie zapraszamy na niezapomniany weekend pełen muzyki i 
 zabawy podczas obchodów Dni Swarzędza 2025! Tegoroczne Dni Swarzędza od
 będą się 28 i 29 czerwca (sobota i Niedziela) tradycyjnie na Polanie Mi
 ejskiej przy ul. Strzeleckiej. Podczas największej imprezy plenerowej w S
 warzędzu wystąpią: Paktofonika\, DJ Barthezz\, DJ Shaun Baker\, zespó
 ł Turbo\, Majka Jeżowska oraz Kasia Kowalska. Koncertom będą towarzysz
 yć animacje\, wspaniały lunapark\, dmuchany plac zabaw oraz niesamowity 
 pokaz laserowy! Dołączcie do nas podczas tych wyjątkowych dni! Niech b
 ędzie to weekend pełen radości i wspólnych przeżyć!\n\n\n     \n
ATTACH;FMTTYPE=image/jpeg:https://powiat.poznan.pl/wp-content/uploads/2025
 /05/492537625_1102598168576228_8037957869049422742_n.jpg
CATEGORIES:Piknik,Rozrywka
LOCATION:Polana Miejska przy ul. Strzeleckiej\, ul. Strzelecka\, Swarzędz\
 , Poland
GEO:52.409553;17.061387
X-APPLE-STRUCTURED-LOCATION;VALUE=URI;X-ADDRESS=ul. Strzelecka\, Swarzędz\
 , Poland;X-APPLE-RADIUS=100;X-TITLE=Polana Miejska przy ul. Strzeleckiej:g
 eo:52.409553,17.061387
END:VEVENT
END:VCALENDAR