BEGIN:VCALENDAR
VERSION:2.0
PRODID:-//wp-events-plugin.com//7.1.7//EN
BEGIN:VEVENT
UID:8460@powiat.poznan.pl
DTSTART:20241008T083000Z
DTEND:20241008T083000Z
DTSTAMP:20241003T075414Z
URL:https://powiat.poznan.pl/events/dopiewskie-dni-seniora-3/
SUMMARY:Dopiewskie Dni Seniora
DESCRIPTION:Dopiewskie Dni Seniora\nWięcej informacji na dopiewo.pl\n\n
ATTACH;FMTTYPE=image/jpeg:https://powiat.poznan.pl/wp-content/uploads/2024
 /10/dopiewskie-dni-seniora-2024.jpg.webp
CATEGORIES:Dla seniora
LOCATION:Dom Pomocy Społecznej w Lisówkach\, ul. Leśne Zacisze 2\, Lisó
 wki\, Poland
GEO:52.33315589999999;16.64706190000004
X-APPLE-STRUCTURED-LOCATION;VALUE=URI;X-ADDRESS=ul. Leśne Zacisze 2\, Lis
 ówki\, Poland;X-APPLE-RADIUS=100;X-TITLE=Dom Pomocy Społecznej w Lisówk
 ach:geo:52.33315589999999,16.64706190000004
END:VEVENT
END:VCALENDAR