BEGIN:VCALENDAR
VERSION:2.0
PRODID:-//wp-events-plugin.com//7.1.7//EN
BEGIN:VEVENT
UID:9281@powiat.poznan.pl
DTSTART;VALUE=DATE:20250830
DTEND;VALUE=DATE:20250831
DTSTAMP:20250819T091440Z
URL:https://powiat.poznan.pl/events/dozynki-gminne-w-wojnowie/
SUMMARY:Dożynki gminne w Wojnowie
DESCRIPTION:Dożynki Gminne w ArtFolwark Wojnowo – wyjątkowe święto pl
 onów\, tradycji i wspólnoty!\n\n\n\nPROGRAM DOŻYNEK:\n14:30 – Msza ś
 w. dziękczynna za tegoroczne plony\n15:45 – Obrzęd dożynkowy w wykona
 niu Zespołu Tańca Ludowego „Poligrodzianie” pod kierunkiem Marzenny 
 Biegały-Howorskiej\n17:00 – Występ Zespołu Tańca Ludowego „Poligro
 dzianie”\n17:30 – Koncert Orkiestry Dętej OSP Murowana Goślina pod b
 atutą Tomasza Kaczora\n18:00 – Koncert Kapeli Podwórkowej Swoja Wiara\
 n19:30 – Koncert zespołu JJ &amp\; Złote Lata Band\n21:00 – GWIAZDA 
 WIECZORU: KONCERT ELENI 🎤\n22:30 – 1:00 – Zabawa dożynkowa dla wsz
 ystkich!\n\nDODATKOWE ATRAKCJE:\nWystawa płodów rolnych\nDmuchańce dla 
 dzieci\nStoiska handlowe i gastronomiczne\nKawiarenka Sołectwa Wojnowo\nK
 onkurs wiedzy z nagrodami o tematyce gminnej\, dożynkowej i przyrodniczej
ATTACH;FMTTYPE=image/jpeg:https://powiat.poznan.pl/wp-content/uploads/2025
 /08/murowana-1.jpg
CATEGORIES:Jarmark
LOCATION:ArtFolwark Wojnowo\, ArtFolwark Wojnowo\, Wojnowo\, Poland
GEO:52.618453;17.051406
X-APPLE-STRUCTURED-LOCATION;VALUE=URI;X-ADDRESS=ArtFolwark Wojnowo\, Wojnow
 o\, Poland;X-APPLE-RADIUS=100;X-TITLE=ArtFolwark Wojnowo:geo:52.618453,17.
 051406
END:VEVENT
END:VCALENDAR