BEGIN:VCALENDAR
VERSION:2.0
PRODID:-//wp-events-plugin.com//7.1.7//EN
BEGIN:VEVENT
UID:9303@powiat.poznan.pl
DTSTART:20250823T120000Z
DTEND:20250823T220000Z
DTSTAMP:20250819T083703Z
URL:https://powiat.poznan.pl/events/dozynki-gminy-kleszczewo/
SUMMARY:Dożynki gminy Kleszczewo
DESCRIPTION:Koniec wakacji to czas dożynek. Obecnie kojarzą się one z do
 brą zabawą i mnóstwem atrakcji\, ale to przede wszystkim święto rolni
 ków. To właśnie ten moment\, aby z wdzięcznością i szacunkiem spojrz
 eć na ich ciężką\, codzienną pracę. Dożynki\, podobnie jak wiele in
 nych świąt\, wywodzą się z tradycji pogańskich i nawiązuje do równo
 nocy jesiennej. Dzisiaj to święto organizowane po zakończeniu żniw i w
 iąże się z nim wiele tradycyjnych obrzędów.\n\nBędzie można je obej
 rzeć choćby w gminach powiatu poznańskiego\, bo w większości z nich z
 aplanowano święto plonów. W ich trakcie nie zabraknie koncertów\, konk
 ursów i innych atrakcji. Poniżej prezentujemy daty i program imprez w po
 szczególnych ośrodkach. Mieszkańcy gmin Puszczykowo i Mosina na dożynk
 i mogą wybrać się do Grzybna\, które położone jest w pobliskim powie
 cie średzkim. Dodatkowe informacje na temat dożynek można znaleźć na 
 stronach poszczególnych gmin i sołectw.\n\n&nbsp\;\n\n
ATTACH;FMTTYPE=image/jpeg:https://powiat.poznan.pl/wp-content/uploads/2025
 /08/kleszczewo.jpg
CATEGORIES:Kultura i sztuka,Piknik,Rozrywka,Społeczne,Uroczystości
END:VEVENT
END:VCALENDAR