BEGIN:VCALENDAR
VERSION:2.0
PRODID:-//wp-events-plugin.com//7.1.7//EN
BEGIN:VEVENT
UID:9283@powiat.poznan.pl
DTSTART;VALUE=DATE:20250823
DTEND;VALUE=DATE:20250824
DTSTAMP:20250812T073723Z
URL:https://powiat.poznan.pl/events/dozynki-miasta-i-gminy-kornik/
SUMMARY:Dożynki Miasta i Gminy Kórnik
DESCRIPTION:Dożynki Miasta i Gminy Kórnik - Konarskie\n\n
ATTACH;FMTTYPE=image/jpeg:https://powiat.poznan.pl/wp-content/uploads/2025
 /08/kornik1.jpg
CATEGORIES:Jarmark
LOCATION:Konarskie\, Konarskie\, Konarskie\, Poland
GEO:52.222851;17.051864
X-APPLE-STRUCTURED-LOCATION;VALUE=URI;X-ADDRESS=Konarskie\, Konarskie\, Pol
 and;X-APPLE-RADIUS=100;X-TITLE=Konarskie:geo:52.222851,17.051864
END:VEVENT
END:VCALENDAR