BEGIN:VCALENDAR
VERSION:2.0
PRODID:-//wp-events-plugin.com//7.1.7//EN
BEGIN:VEVENT
UID:9306@powiat.poznan.pl
DTSTART:20250831T123000Z
DTEND:20250831T210000Z
DTSTAMP:20250819T092112Z
URL:https://powiat.poznan.pl/events/dozynki-w-bedlewie/
SUMMARY:Dożynki w Będlewie
DESCRIPTION:Koniec wakacji to czas dożynek. Obecnie kojarzą się one z do
 brą zabawą i mnóstwem atrakcji\, ale to przede wszystkim święto rolni
 ków. To właśnie ten moment\, aby z wdzięcznością i szacunkiem spojrz
 eć na ich ciężką\, codzienną pracę. Dożynki\, podobnie jak wiele in
 nych świąt\, wywodzą się z tradycji pogańskich i nawiązuje do równo
 nocy jesiennej. Dzisiaj to święto organizowane po zakończeniu żniw i w
 iąże się z nim wiele tradycyjnych obrzędów.\n\nBędzie można je obej
 rzeć choćby w gminach powiatu poznańskiego\, bo w większości z nich z
 aplanowano święto plonów. W ich trakcie nie zabraknie koncertów\, konk
 ursów i innych atrakcji.\n\n
ATTACH;FMTTYPE=image/jpeg:https://powiat.poznan.pl/wp-content/uploads/2025
 /08/steszew.jpg
CATEGORIES:Piknik,Rozrywka,Społeczne,Uroczystości
LOCATION:Będlewo\, Będlewo\, Będlewo\, 62-060\, Poland
GEO:52.2345798;16.720322399999986
X-APPLE-STRUCTURED-LOCATION;VALUE=URI;X-ADDRESS=Będlewo\, Będlewo\, 62-06
 0\, Poland;X-APPLE-RADIUS=100;X-TITLE=Będlewo:geo:52.2345798,16.720322399
 999986
END:VEVENT
END:VCALENDAR