BEGIN:VCALENDAR
VERSION:2.0
PRODID:-//wp-events-plugin.com//7.1.7//EN
BEGIN:VEVENT
UID:9289@powiat.poznan.pl
DTSTART:20250823T120000Z
DTEND:20250823T220000Z
DTSTAMP:20250812T080905Z
URL:https://powiat.poznan.pl/events/dozynki-w-chludowie-3/
SUMMARY:Dożynki w Chludowie
DESCRIPTION:\n\nDożynki gminno-parafialne w Chludowie gm. Suchy las\n\n13:
 00 – Msza św. w kościele w Chludowie\n\n14:00 – Korowód dożynkowy 
 na ul. Rynek\n\n14:30 – 19:00 Część artystyczna\n\n 	Orkiestra Dęta 
 Chludowo\n 	Chludowianie\n 	Mali Maniowianie – dziecięcy zespół ludow
 y\n 	Mazelonka\n 	Maniewiacy\n 	KGW Golęczewianki\n 	Posnania Barocca\n 	
 Formacja Taneczna Zuz Karola i Ladies Latino\n 	Akademia Tańca\n\n19:00 
 – Koncert zespołu “Niesamowita sprawa”\n\n20:00 – Konkurs turlani
 a balota\n\n21:00 – 23:00 Potańcówka z muzyką na żywo\n\n\n\n
ATTACH;FMTTYPE=image/jpeg:https://powiat.poznan.pl/wp-content/uploads/2025
 /08/suchy-las.jpg
CATEGORIES:Dla dzieci,Dla seniora,Piknik,Rozrywka,Społeczne
LOCATION:Rynek Chludowo\, ul. Rynek Chludowo\, 62-001 Chludowo\, Poland
GEO:52.555601;16.849476
X-APPLE-STRUCTURED-LOCATION;VALUE=URI;X-ADDRESS=ul. Rynek Chludowo\, 62-001
  Chludowo\, Poland;X-APPLE-RADIUS=100;X-TITLE=Rynek Chludowo:geo:52.555601
 ,16.849476
END:VEVENT
END:VCALENDAR