BEGIN:VCALENDAR
VERSION:2.0
PRODID:-//wp-events-plugin.com//7.1.7//EN
BEGIN:VEVENT
UID:9305@powiat.poznan.pl
DTSTART:20250830T150000Z
DTEND:20250830T220000Z
DTSTAMP:20250819T090719Z
URL:https://powiat.poznan.pl/events/dozynki-w-gminie-kostrzyn-2/
SUMMARY:Dożynki w gminie Kostrzyn
DESCRIPTION:Koniec wakacji to czas dożynek. Obecnie kojarzą się one z do
 brą zabawą i mnóstwem atrakcji\, ale to przede wszystkim święto rolni
 ków. To właśnie ten moment\, aby z wdzięcznością i szacunkiem spojrz
 eć na ich ciężką\, codzienną pracę. Dożynki\, podobnie jak wiele in
 nych świąt\, wywodzą się z tradycji pogańskich i nawiązuje do równo
 nocy jesiennej. Dzisiaj to święto organizowane po zakończeniu żniw i w
 iąże się z nim wiele tradycyjnych obrzędów.\n\nBędzie można je obej
 rzeć choćby w gminach powiatu poznańskiego\, bo w większości z nich z
 aplanowano święto plonów. W ich trakcie nie zabraknie koncertów\, konk
 ursów i innych atrakcji.\n\n
ATTACH;FMTTYPE=image/jpeg:https://powiat.poznan.pl/wp-content/uploads/2025
 /08/kostrzyn.jpg
CATEGORIES:Piknik,Rozrywka,Społeczne,Uroczystości
LOCATION:Drzązgowo\, gmina Kostrzyn Wielkopolski\, Drzązgowo\, Drzązgowo
 \, gmina Kostrzyn Wielkopolski\, Poland
GEO:52.342844;17.298089
X-APPLE-STRUCTURED-LOCATION;VALUE=URI;X-ADDRESS=Drzązgowo\, Drzązgowo\, g
 mina Kostrzyn Wielkopolski\, Poland;X-APPLE-RADIUS=100;X-TITLE=Drzązgowo\
 , gmina Kostrzyn Wielkopolski:geo:52.342844,17.298089
END:VEVENT
END:VCALENDAR