BEGIN:VCALENDAR
VERSION:2.0
PRODID:-//wp-events-plugin.com//7.1.7//EN
BEGIN:VEVENT
UID:8468@powiat.poznan.pl
DTSTART:20241023T080000Z
DTEND:20241023T131500Z
DTSTAMP:20241009T125927Z
URL:https://powiat.poznan.pl/events/dzien-bialej-laski-3/
SUMMARY:Dzień Białej Laski
DESCRIPTION:Dzień Białej Laski\nProgram_WSE_kolor_BIAŁA_LASKA_2024.04_LO
 GO (002)\n\nMIĘDZYNARODOWY DZIEŃ BIAŁEJ LASKI UAM WSE\n(ul. Szamarzewsk
 iego 89\, sala 508\, 16 października\, godz. 9-13:30)\n\n&nbsp\;
ATTACH;FMTTYPE=image/jpeg:https://powiat.poznan.pl/wp-content/uploads/2024
 /10/3-3.jpg
CATEGORIES:Społeczne
LOCATION:UAM\, ul. Szamarzewskiego 89\, 60-568 Poznań\, Poland
GEO:52.414058;16.882198
X-APPLE-STRUCTURED-LOCATION;VALUE=URI;X-ADDRESS=ul. Szamarzewskiego 89\, 60
 -568 Poznań\, Poland;X-APPLE-RADIUS=100;X-TITLE=UAM:geo:52.414058,16.8821
 98
END:VEVENT
END:VCALENDAR