BEGIN:VCALENDAR
VERSION:2.0
PRODID:-//wp-events-plugin.com//7.1.7//EN
BEGIN:VEVENT
UID:8541@powiat.poznan.pl
DTSTART:20241026T100000Z
DTEND:20241026T100000Z
DTSTAMP:20241017T073013Z
URL:https://powiat.poznan.pl/events/dzien-seniora-w-steszewie/
SUMMARY:Dzień Seniora w Stęszewie
DESCRIPTION:Dzień Seniora w Stęszewie\nPaździernik to miesiąc\, gdy w 
 szczególny sposób myślimy o naszych seniorach \nZ tej okazji zapraszam
 y naszych Drogich Seniorów do wspólnej biesiady w ramach Gminnego Dnia 
 Seniora\, która odbędzie się  października br. o godz. : w hali wido
 wiskowo – sportowej w Stęszewie .\nBezpłatne wejściówki (dla senior
 ów) do odbioru:\n u sołtysów\,\n w Urzędzie Miejskim Gminy Stęszew 
 (w godz. 7:00 – 15:00)\,\n w hali widowiskowo – sportowej (w godz. 15
 :00 – 21:00).\nIlość miejsc ograniczona.\nInformacja: steszew.pl\nWię
 cej informacji na steszew.pl\n
ATTACH;FMTTYPE=image/jpeg:https://powiat.poznan.pl/wp-content/uploads/2024
 /10/dzien-seniora-w-steszewie_462714399_534330705882634_801606811206047901
 1_n.jpg
CATEGORIES:Dla seniora
LOCATION:Hala Widowiskowo - Sportowa w Stęszewie\, ul. Poznańska 22A\, St
 ęszew\, Poland
GEO:52.2817669;16.706091900000047
X-APPLE-STRUCTURED-LOCATION;VALUE=URI;X-ADDRESS=ul. Poznańska 22A\, Stęsz
 ew\, Poland;X-APPLE-RADIUS=100;X-TITLE=Hala Widowiskowo - Sportowa w Stęs
 zewie:geo:52.2817669,16.706091900000047
END:VEVENT
END:VCALENDAR